BEGIN:VCALENDAR
VERSION:2.0
PRODID:-//Partecipa Bova - ECPv5.9.2//NONSGML v1.0//EN
CALSCALE:GREGORIAN
METHOD:PUBLISH
X-WR-CALNAME:Partecipa Bova
X-ORIGINAL-URL:https://partecipabova.it
X-WR-CALDESC:Eventi per Partecipa Bova
BEGIN:VTIMEZONE
TZID:Europe/Rome
BEGIN:DAYLIGHT
TZOFFSETFROM:+0100
TZOFFSETTO:+0200
TZNAME:CEST
DTSTART:20210328T010000
END:DAYLIGHT
BEGIN:STANDARD
TZOFFSETFROM:+0200
TZOFFSETTO:+0100
TZNAME:CET
DTSTART:20211031T010000
END:STANDARD
END:VTIMEZONE
BEGIN:VEVENT
DTSTART;TZID=Europe/Rome:20211022T170000
DTEND;TZID=Europe/Rome:20211023T130000
DTSTAMP:20260422T035028
CREATED:20211013T052932Z
LAST-MODIFIED:20211013T054143Z
UID:1214-1634922000-1634994000@partecipabova.it
SUMMARY:La Magna Grecia e la Calabria Greco-Bizantina a 200 anni dall'inizio della lotta della Grecia per la sua liberta
DESCRIPTION:Dopo il convegno del 2018 dedicato alle radici classiche\, greche e magnogreche\, prosegue il viaggio di Bova Life nella storia della Calabria. In occasione del bicentenario della lotta della Grecia per conquistare la sua indipendenza l’Associazione Bova Life\, con l’Ambasciata Greca in Italia e il Professore Louis Godart\, archeologo e filologo di fama mondiale\, è lieta d’invitarvi al Convegno Internazionale dal titolo “La Magna Grecia e la Calabria Greco-Bizantina a duecento anni dall’inizio della lotta della Grecia per la sua libertà”. \nPROGRAMMA\n\nVenerdì 22 ottobre\, ore 17:00\nReggio Calabria – La Terrazza de L’A Gourmet L’Accademia\, Largo Colombo 9\nSaluti:\n– Luca Micheletta – Associazione Bova Life\n– Giuseppe Falcomatà – Sindaco di Reggio Calabria\n– Theodore Μ. Passas – Ambasciatore di Grecia in Italia\n– Lina Mendoni – Ministro della Cultura del Governo Greco (lettera di saluti)\nRelazioni:\n– Louis Godart – Accademia Nazionale dei Lincei\n– Giacomo Oliva – Consiglio Direttivo del Comitato Permanente di Studi Bizantini\n– Pasquale Amato – Università per stranieri di Reggio Calabria\n– Padre Nilo Vatopedino \, al secolo Giorgio Barone Adesi – Università degli Studi di Catanzaro “Magna Graecia”\nModera: Giorgio Neri – Giornalista dell’Ansa\n\n\nSabato 23 ottobre\, ore 9:30\nBova – Spazio Cultura\, via Rimembranze\nSaluti:\n– Luca Micheletta – Associazione Bova Life\n– Santo Casile – Sindaco di Bova\n– Louis Godart – Accademia Nazionale dei Lincei\n– Theodore Μ. Passas – Ambasciatore di Grecia in Italia\n– Danilo Brancati – Presidente Associazione Ellenofona Jalò tu Vua\nRelazioni:\n– Pasquale Amato – Università per stranieri di Reggio Calabria\n– Carmine Lupia – Presidente Associazione Cammino Basiliano\n– Francesco Cuteri – Accademia di Belle Arti di Catanzaro\nModera: Giorgio Neri – Giornalista dell’Ansa\n\nRegistrazioni al seguente link: https://bovalife.eventbrite.it\nL’accesso alle sale\, con Green pass\, è consentito fino ad esaurimento posti in base alle capienze massime previste dalle norme anti-Covid19.
URL:https://partecipabova.it/event/la-magnagrecia-e-la-calabria-greco-bizantina-a-200-anni-dallinizio-della-lotta-della-grecia-per-la-sua-liberta/
LOCATION:La Terrazza de L’A Gourmet L’Accademia\, Largo Colombo n. 9\, Reggio Calabria\, RC\, 89125\, Italia
CATEGORIES:Eventi
ATTACH;FMTTYPE=image/jpeg:https://partecipabova.it/wp-content/uploads/2021/10/Evento-22-23-Ottobre.jpg
END:VEVENT
BEGIN:VEVENT
DTSTART;VALUE=DATE:20211016
DTEND;VALUE=DATE:20211017
DTSTAMP:20260422T035028
CREATED:20211010T102523Z
LAST-MODIFIED:20211011T074030Z
UID:1135-1634342400-1634428799@partecipabova.it
SUMMARY:Giornate FAI d’Autunno - Bova
DESCRIPTION:
URL:https://partecipabova.it/event/giornate-fai-dautunno-16-e-17-ottobre-2021-dalle-1030-alle-1730-giudecca-di-bova/
LOCATION:Giudecca\, Bova\, Italia\, 89033
CATEGORIES:Eventi
ATTACH;FMTTYPE=image/jpeg:https://partecipabova.it/wp-content/uploads/2021/10/GERARD-300--scaled.jpg
END:VEVENT
END:VCALENDAR